BEGIN:VCALENDAR
VERSION:2.0
PRODID:-//YBB NRW - ECPv6.15.20//NONSGML v1.0//EN
CALSCALE:GREGORIAN
METHOD:PUBLISH
X-WR-CALNAME:YBB NRW
X-ORIGINAL-URL:https://www.ybb-nrw.de
X-WR-CALDESC:Veranstaltungen für YBB NRW
REFRESH-INTERVAL;VALUE=DURATION:PT1H
X-Robots-Tag:noindex
X-PUBLISHED-TTL:PT1H
BEGIN:VTIMEZONE
TZID:Europe/Berlin
BEGIN:DAYLIGHT
TZOFFSETFROM:+0100
TZOFFSETTO:+0200
TZNAME:CEST
DTSTART:20250330T010000
END:DAYLIGHT
BEGIN:STANDARD
TZOFFSETFROM:+0200
TZOFFSETTO:+0100
TZNAME:CET
DTSTART:20251026T010000
END:STANDARD
BEGIN:DAYLIGHT
TZOFFSETFROM:+0100
TZOFFSETTO:+0200
TZNAME:CEST
DTSTART:20260329T010000
END:DAYLIGHT
BEGIN:STANDARD
TZOFFSETFROM:+0200
TZOFFSETTO:+0100
TZNAME:CET
DTSTART:20261025T010000
END:STANDARD
BEGIN:DAYLIGHT
TZOFFSETFROM:+0100
TZOFFSETTO:+0200
TZNAME:CEST
DTSTART:20270328T010000
END:DAYLIGHT
BEGIN:STANDARD
TZOFFSETFROM:+0200
TZOFFSETTO:+0100
TZNAME:CET
DTSTART:20271031T010000
END:STANDARD
BEGIN:DAYLIGHT
TZOFFSETFROM:+0100
TZOFFSETTO:+0200
TZNAME:CEST
DTSTART:20280326T010000
END:DAYLIGHT
BEGIN:STANDARD
TZOFFSETFROM:+0200
TZOFFSETTO:+0100
TZNAME:CET
DTSTART:20281029T010000
END:STANDARD
END:VTIMEZONE
BEGIN:VEVENT
DTSTART;TZID=Europe/Berlin:20260502T193000
DTEND;TZID=Europe/Berlin:20270502T220000
DTSTAMP:20260420T082311
CREATED:20170813T093737Z
LAST-MODIFIED:20260219T090402Z
UID:608-1777750200-1809295200@www.ybb-nrw.de
SUMMARY:Konzert in Hamm
DESCRIPTION:
URL:https://www.ybb-nrw.de/event/konzert-hamm/
LOCATION:Beisenkamp Gymnasium\, Am Beisenkamp 1\, Hamm\, 59063\, Deutschland
END:VEVENT
BEGIN:VEVENT
DTSTART;TZID=Europe/Berlin:20260503T160000
DTEND;TZID=Europe/Berlin:20260503T183000
DTSTAMP:20260420T082311
CREATED:20171004T194956Z
LAST-MODIFIED:20260219T090442Z
UID:772-1777824000-1777833000@www.ybb-nrw.de
SUMMARY:Konzert in Warendorf
DESCRIPTION:
URL:https://www.ybb-nrw.de/event/konzert-in-warendorf/
LOCATION:Bischöfliche Realschule\, Rosenstraße 6\, Warendorf\, 48231
END:VEVENT
BEGIN:VEVENT
DTSTART;TZID=Europe/Berlin:20260504T190000
DTEND;TZID=Europe/Berlin:20260504T200000
DTSTAMP:20260420T082311
CREATED:20260408T190619Z
LAST-MODIFIED:20260408T190627Z
UID:1358-1777921200-1777924800@www.ybb-nrw.de
SUMMARY:Landesgartenschau Neuss
DESCRIPTION:Ein besonderes Highlight ist diese Jahr unser Auftritt im Rahmen der Landesgartenschau in Neuss. Ihr findet uns auf der Sparkassen Bühne. Alle weiteren Infos hier:Veranstaltung
URL:https://www.ybb-nrw.de/event/landesgartenschau-neuss/
LOCATION:Landesgartenschau Neuss\, Langemarckstraße 1\, Neuss\, Nordrhein-Westfalen\, 41460
END:VEVENT
BEGIN:VEVENT
DTSTART;TZID=Europe/Berlin:20260529T190000
DTEND;TZID=Europe/Berlin:20260529T220000
DTSTAMP:20260420T082311
CREATED:20260219T093641Z
LAST-MODIFIED:20260219T093641Z
UID:1351-1780081200-1780092000@www.ybb-nrw.de
SUMMARY:Konzert in Soest
DESCRIPTION:
URL:https://www.ybb-nrw.de/event/konzert-in-soest/
LOCATION:Aldegrever-Gymnasium\, Burghofstraße 20\, Soest\, 59494
END:VEVENT
BEGIN:VEVENT
DTSTART;VALUE=DATE:20260817
DTEND;VALUE=DATE:20260823
DTSTAMP:20260420T082311
CREATED:20170130T101630Z
LAST-MODIFIED:20260219T084656Z
UID:275-1786932000-1787363999@www.ybb-nrw.de
SUMMARY:YBB Next Generation & Let´s Brass
DESCRIPTION:Detaillierte Infos unter Mitspielen.
URL:https://www.ybb-nrw.de/event/ybb-workcamp-2017-in-bad-fredeburg/
LOCATION:Musikbildungszentrum Südwestfalen\, Johannes-Hummel-Weg 1\, Schmallenberg\, 57392
END:VEVENT
BEGIN:VEVENT
DTSTART;TZID=Europe/Berlin:20261003T000000
DTEND;TZID=Europe/Berlin:20261003T000000
DTSTAMP:20260420T082311
CREATED:20190208T102801Z
LAST-MODIFIED:20260219T091822Z
UID:943-1790985600-1790985600@www.ybb-nrw.de
SUMMARY:Kölner Philharmonie - Tag der offenen Tür
DESCRIPTION:Weitere Infos folgen.
URL:https://www.ybb-nrw.de/event/acht-bruecken-travel-musica/
LOCATION:Kölner Philharmonie\, Bischofsgartenstraße 1\, Köln\, 50667
END:VEVENT
END:VCALENDAR